BEGIN:VCALENDAR
PRODID:-//dvv-bw.de//dvv.Portalplattform//DE
VERSION:2.0
METHOD:PUBLISH
BEGIN:VEVENT
DTSTART:20260307T230000Z
DTEND:20260307T230000Z
DTSTAMP:20260307T230000Z
UID:523253195502-523253195501-1772924400000
SUMMARY:Kreismeisterschaften Schüler/Jugend
LOCATION:Schützenhaus
DESCRIPTION:Kreismeisterschaften Schüler/Jugend
CLASS:PUBLIC
X-ALT-DESC;FMTTYPE=text/html:Kreismeisterschaften Schüler/Jugend
END:VEVENT
END:VCALENDAR
